BEGIN:VCALENDAR
VERSION:2.0
PRODID:-//Fatimai Szűzanya tiszteletére épült Szent István Király Plébániatemplom - ECPv6.15.17.1//NONSGML v1.0//EN
CALSCALE:GREGORIAN
METHOD:PUBLISH
X-WR-CALNAME:Fatimai Szűzanya tiszteletére épült Szent István Király Plébániatemplom
X-ORIGINAL-URL:https://fatimaiszuzanya.hu
X-WR-CALDESC:Események Fatimai Szűzanya tiszteletére épült Szent István Király Plébániatemplom
REFRESH-INTERVAL;VALUE=DURATION:PT1H
X-Robots-Tag:noindex
X-PUBLISHED-TTL:PT1H
BEGIN:VTIMEZONE
TZID:Europe/Helsinki
BEGIN:DAYLIGHT
TZOFFSETFROM:+0200
TZOFFSETTO:+0300
TZNAME:EEST
DTSTART:20240331T010000
END:DAYLIGHT
BEGIN:STANDARD
TZOFFSETFROM:+0300
TZOFFSETTO:+0200
TZNAME:EET
DTSTART:20241027T010000
END:STANDARD
BEGIN:DAYLIGHT
TZOFFSETFROM:+0200
TZOFFSETTO:+0300
TZNAME:EEST
DTSTART:20250330T010000
END:DAYLIGHT
BEGIN:STANDARD
TZOFFSETFROM:+0300
TZOFFSETTO:+0200
TZNAME:EET
DTSTART:20251026T010000
END:STANDARD
BEGIN:DAYLIGHT
TZOFFSETFROM:+0200
TZOFFSETTO:+0300
TZNAME:EEST
DTSTART:20260329T010000
END:DAYLIGHT
BEGIN:STANDARD
TZOFFSETFROM:+0300
TZOFFSETTO:+0200
TZNAME:EET
DTSTART:20261025T010000
END:STANDARD
END:VTIMEZONE
BEGIN:VEVENT
DTSTART;TZID=Europe/Helsinki:20251206T170000
DTEND;TZID=Europe/Helsinki:20251206T190000
DTSTAMP:20260419T211723
CREATED:20251124T191010Z
LAST-MODIFIED:20251124T191010Z
UID:2403-1765040400-1765047600@fatimaiszuzanya.hu
SUMMARY:Dr. Erdő Péter bíboros templomunkban
DESCRIPTION:https://fatimaiszuzanya.hu/2025/11/23/dr-erdo-peter-biboros-templomunkban/
URL:https://fatimaiszuzanya.hu/event/dr-erdo-peter-biboros-templomunkban/
LOCATION:Templom\, Szent László u. 149\, Budapest\, 1237\, Hungary
ATTACH;FMTTYPE=image/png:https://fatimaiszuzanya.hu/wp-content/uploads/2025/11/ErdoPeter-20251206-2-web.png
END:VEVENT
BEGIN:VEVENT
DTSTART;TZID=Europe/Helsinki:20251220T180000
DTEND;TZID=Europe/Helsinki:20251220T190000
DTSTAMP:20260419T211723
CREATED:20251219T213003Z
LAST-MODIFIED:20251219T213003Z
UID:2448-1766253600-1766257200@fatimaiszuzanya.hu
SUMMARY:Adventi gyertyagyújtás
DESCRIPTION:Advent 4. vasárnapjának előestéjén közösen gyújtjuk meg a 4. gyertyát.
URL:https://fatimaiszuzanya.hu/event/adventi-gyertyagyujtas/
LOCATION:Templom\, Szent László u. 149\, Budapest\, 1237\, Hungary
ATTACH;FMTTYPE=image/jpeg:https://fatimaiszuzanya.hu/wp-content/uploads/2024/11/candle-1750640_640.jpg
END:VEVENT
BEGIN:VEVENT
DTSTART;TZID=Europe/Helsinki:20251224T160000
DTEND;TZID=Europe/Helsinki:20251224T170000
DTSTAMP:20260419T211723
CREATED:20251219T212413Z
LAST-MODIFIED:20251221T112227Z
UID:2441-1766592000-1766595600@fatimaiszuzanya.hu
SUMMARY:Betlehemes játék
DESCRIPTION:Várunk szeretettel kicsiket és nagyokat a hagyományos pásztorjátékra a templomba!
URL:https://fatimaiszuzanya.hu/event/betlehemes-jatek/
LOCATION:Templom\, Szent László u. 149\, Budapest\, 1237\, Hungary
ATTACH;FMTTYPE=image/jpeg:https://fatimaiszuzanya.hu/wp-content/uploads/2024/11/christmas-crib-figures-1060017_640.jpg
END:VEVENT
BEGIN:VEVENT
DTSTART;TZID=Europe/Helsinki:20251225T000000
DTEND;TZID=Europe/Helsinki:20251225T010000
DTSTAMP:20260419T211723
CREATED:20251219T212627Z
LAST-MODIFIED:20251219T212627Z
UID:2444-1766620800-1766624400@fatimaiszuzanya.hu
SUMMARY:Éjféli szentmise
DESCRIPTION:
URL:https://fatimaiszuzanya.hu/event/ejfeli-szentmise-2/
LOCATION:Templom\, Szent László u. 149\, Budapest\, 1237\, Hungary
ATTACH;FMTTYPE=image/png:https://fatimaiszuzanya.hu/wp-content/uploads/2024/12/szentcsalad.png
END:VEVENT
BEGIN:VEVENT
DTSTART;TZID=Europe/Helsinki:20251225T093000
DTEND;TZID=Europe/Helsinki:20251225T103000
DTSTAMP:20260419T211723
CREATED:20251221T112400Z
LAST-MODIFIED:20251221T112400Z
UID:2462-1766655000-1766658600@fatimaiszuzanya.hu
SUMMARY:Karácsonyi családos szentmise
DESCRIPTION:
URL:https://fatimaiszuzanya.hu/event/karacsonyi-csalados-szentmise/
LOCATION:Templom\, Szent László u. 149\, Budapest\, 1237\, Hungary
ATTACH;FMTTYPE=image/png:https://fatimaiszuzanya.hu/wp-content/uploads/2024/12/karacsony-640x427-1.png
END:VEVENT
BEGIN:VEVENT
DTSTART;TZID=Europe/Helsinki:20251225T180000
DTEND;TZID=Europe/Helsinki:20251225T190000
DTSTAMP:20260419T211723
CREATED:20251221T112440Z
LAST-MODIFIED:20251221T112440Z
UID:2464-1766685600-1766689200@fatimaiszuzanya.hu
SUMMARY:Karácsonyi szentmise
DESCRIPTION:
URL:https://fatimaiszuzanya.hu/event/karacsonyi-szentmise/
LOCATION:Templom\, Szent László u. 149\, Budapest\, 1237\, Hungary
ATTACH;FMTTYPE=image/png:https://fatimaiszuzanya.hu/wp-content/uploads/2024/12/karacsony-640x427-1.png
END:VEVENT
BEGIN:VEVENT
DTSTART;VALUE=DATE:20251228
DTEND;VALUE=DATE:20251229
DTSTAMP:20260419T211723
CREATED:20251221T112754Z
LAST-MODIFIED:20251221T112754Z
UID:2466-1766880000-1766966399@fatimaiszuzanya.hu
SUMMARY:Szentcsalád vasárnapja - családáldás
DESCRIPTION:Szentcsalád vasárnapján kerül sor a családok megáldására a szentmiséken (9:30 és 18:00) \nSzeretettel várjuk azon családtagokat is\, akik általában nem járnak hozzánk szentmisére!
URL:https://fatimaiszuzanya.hu/event/szentcsalad-vasarnapja-csaladaldas/
LOCATION:Templom\, Szent László u. 149\, Budapest\, 1237\, Hungary
ATTACH;FMTTYPE=image/png:https://fatimaiszuzanya.hu/wp-content/uploads/2024/12/szentcsalad.png
END:VEVENT
END:VCALENDAR