BEGIN:VCALENDAR
VERSION:2.0
PRODID:-//Fatimai Szűzanya tiszteletére épült Szent István Király Plébániatemplom - ECPv6.15.17.1//NONSGML v1.0//EN
CALSCALE:GREGORIAN
METHOD:PUBLISH
X-WR-CALNAME:Fatimai Szűzanya tiszteletére épült Szent István Király Plébániatemplom
X-ORIGINAL-URL:https://fatimaiszuzanya.hu
X-WR-CALDESC:Események Fatimai Szűzanya tiszteletére épült Szent István Király Plébániatemplom
REFRESH-INTERVAL;VALUE=DURATION:PT1H
X-Robots-Tag:noindex
X-PUBLISHED-TTL:PT1H
BEGIN:VTIMEZONE
TZID:Europe/Helsinki
BEGIN:DAYLIGHT
TZOFFSETFROM:+0200
TZOFFSETTO:+0300
TZNAME:EEST
DTSTART:20250330T010000
END:DAYLIGHT
BEGIN:STANDARD
TZOFFSETFROM:+0300
TZOFFSETTO:+0200
TZNAME:EET
DTSTART:20251026T010000
END:STANDARD
BEGIN:DAYLIGHT
TZOFFSETFROM:+0200
TZOFFSETTO:+0300
TZNAME:EEST
DTSTART:20260329T010000
END:DAYLIGHT
BEGIN:STANDARD
TZOFFSETFROM:+0300
TZOFFSETTO:+0200
TZNAME:EET
DTSTART:20261025T010000
END:STANDARD
BEGIN:DAYLIGHT
TZOFFSETFROM:+0200
TZOFFSETTO:+0300
TZNAME:EEST
DTSTART:20270328T010000
END:DAYLIGHT
BEGIN:STANDARD
TZOFFSETFROM:+0300
TZOFFSETTO:+0200
TZNAME:EET
DTSTART:20271031T010000
END:STANDARD
END:VTIMEZONE
BEGIN:VEVENT
DTSTART;TZID=Europe/Helsinki:20260102T180000
DTEND;TZID=Europe/Helsinki:20260103T170000
DTSTAMP:20260419T171707
CREATED:20251004T083013Z
LAST-MODIFIED:20251207T170214Z
UID:2249-1767376800-1767459600@fatimaiszuzanya.hu
SUMMARY:24 órás szentségimádás
DESCRIPTION:Minden hónap első szombathoz kapcsolódóan 24 órás szentségimádást szervezünk a templomba\, amelyhez bármelyik órában lehet szabadon csatlakozni. Szombaton 17:00 órától rózsafüzér imádsággal zárul.
URL:https://fatimaiszuzanya.hu/event/24-oras-szentsegimadas-12/
LOCATION:Templom\, Szent László u. 149\, Budapest\, 1237\, Hungary
ATTACH;FMTTYPE=image/jpeg:https://fatimaiszuzanya.hu/wp-content/uploads/2024/10/jesus-2121771_640.jpg
END:VEVENT
BEGIN:VEVENT
DTSTART;TZID=Europe/Helsinki:20260113T180000
DTEND;TZID=Europe/Helsinki:20260113T183000
DTSTAMP:20260419T171707
CREATED:20260111T123414Z
LAST-MODIFIED:20260111T123414Z
UID:2516-1768327200-1768329000@fatimaiszuzanya.hu
SUMMARY:Rózsafüzér imádság
DESCRIPTION:Minden hónap 13-án rózsafüzér imádságot szervezünk a fatimai jelenésekre emlékezve. \nA rózsafüzér imádságról erre a linkre kattintva lehet bővebben olvasni. 
URL:https://fatimaiszuzanya.hu/event/rozsafuzer-imadsag/
LOCATION:Templom\, Szent László u. 149\, Budapest\, 1237\, Hungary
ATTACH;FMTTYPE=image/jpeg:https://fatimaiszuzanya.hu/wp-content/uploads/2025/02/rozsafuzer.jpg
END:VEVENT
END:VCALENDAR