BEGIN:VCALENDAR
VERSION:2.0
PRODID:-//Fatimai Szűzanya tiszteletére épült Szent István Király Plébániatemplom - ECPv6.15.17.1//NONSGML v1.0//EN
CALSCALE:GREGORIAN
METHOD:PUBLISH
X-ORIGINAL-URL:https://fatimaiszuzanya.hu
X-WR-CALDESC:Események Fatimai Szűzanya tiszteletére épült Szent István Király Plébániatemplom
REFRESH-INTERVAL;VALUE=DURATION:PT1H
X-Robots-Tag:noindex
X-PUBLISHED-TTL:PT1H
BEGIN:VTIMEZONE
TZID:Europe/Helsinki
BEGIN:DAYLIGHT
TZOFFSETFROM:+0200
TZOFFSETTO:+0300
TZNAME:EEST
DTSTART:20240331T010000
END:DAYLIGHT
BEGIN:STANDARD
TZOFFSETFROM:+0300
TZOFFSETTO:+0200
TZNAME:EET
DTSTART:20241027T010000
END:STANDARD
BEGIN:DAYLIGHT
TZOFFSETFROM:+0200
TZOFFSETTO:+0300
TZNAME:EEST
DTSTART:20250330T010000
END:DAYLIGHT
BEGIN:STANDARD
TZOFFSETFROM:+0300
TZOFFSETTO:+0200
TZNAME:EET
DTSTART:20251026T010000
END:STANDARD
BEGIN:DAYLIGHT
TZOFFSETFROM:+0200
TZOFFSETTO:+0300
TZNAME:EEST
DTSTART:20260329T010000
END:DAYLIGHT
BEGIN:STANDARD
TZOFFSETFROM:+0300
TZOFFSETTO:+0200
TZNAME:EET
DTSTART:20261025T010000
END:STANDARD
END:VTIMEZONE
BEGIN:VEVENT
DTSTART;TZID=Europe/Helsinki:20250419T200000
DTEND;TZID=Europe/Helsinki:20250419T220000
DTSTAMP:20260419T154227
CREATED:20250413T140350Z
LAST-MODIFIED:20250413T140350Z
UID:1804-1745092800-1745100000@fatimaiszuzanya.hu
SUMMARY:Nagyszombati tűzszentelés és szentmise
DESCRIPTION:Nagyszombat az év legcsendesebb napja\, hiszen Jézus a sírban van\, így a templomban semmilyen szertartás sem történik napközben. Napnyugta után a tűzszenteléssel kezdődik a Feltámadás ünnepe. Ilyenkor nagy tüzet rakunk a templomkertben\, a megszentelt tűzről pedig meggyújtjuk a húsvéti gyertyát\, majd mindnyájan égő gyertyákkal a kezünkben vonulunk be a teljesen sötét templomban. Ott az égő gyertyák fényében hangzik el a húsvéti örömének\, a gregorián Exultet. Utána 7 olvasmány segítségével emlékezünk meg a Megváltás előzményeiről a virrasztás szertartásában\, majd megszólalnak a csengők és a harangok\, és az ünnepi szentmisén a Feltámadást ünnepeljük.
URL:https://fatimaiszuzanya.hu/event/nagyszombati-tuzszenteles-es-szentmise/
LOCATION:Templomkert\, Szent László u. 149.\, Budapest\, 1237\, Hungary
ATTACH;FMTTYPE=image/jpeg:https://fatimaiszuzanya.hu/wp-content/uploads/2025/04/easter-2226169_640.jpg
END:VEVENT
BEGIN:VEVENT
DTSTART;VALUE=DATE:20250420
DTEND;VALUE=DATE:20250421
DTSTAMP:20260419T154227
CREATED:20250419T205446Z
LAST-MODIFIED:20250419T205446Z
UID:1816-1745107200-1745193599@fatimaiszuzanya.hu
SUMMARY:Húsvétvasárnap
DESCRIPTION:A feltámadási körmenetet Húsvétvasárnap délelőtt szoktuk tartani\, a 9:30-as szentmise után.
URL:https://fatimaiszuzanya.hu/event/husvetvasarnap/
LOCATION:Templom\, Szent László u. 149\, Budapest\, 1237\, Hungary
ATTACH;FMTTYPE=image/jpeg:https://fatimaiszuzanya.hu/wp-content/uploads/2025/04/Husvet2024-640x427-1.jpg
END:VEVENT
BEGIN:VEVENT
DTSTART;VALUE=DATE:20250421
DTEND;VALUE=DATE:20250427
DTSTAMP:20260419T154227
CREATED:20250209T182353Z
LAST-MODIFIED:20250209T182353Z
UID:1641-1745193600-1745711999@fatimaiszuzanya.hu
SUMMARY:Húsvéti zarándoklat Medjugorjéba
DESCRIPTION:Medjugorje – zarándoklat
URL:https://fatimaiszuzanya.hu/event/husveti-zarandoklat-medjugorjeba/
ATTACH;FMTTYPE=image/jpeg:https://fatimaiszuzanya.hu/wp-content/uploads/2025/02/medjugorje2025.jpg
END:VEVENT
BEGIN:VEVENT
DTSTART;TZID=Europe/Helsinki:20250428T193000
DTEND;TZID=Europe/Helsinki:20250428T210000
DTSTAMP:20260419T154227
CREATED:20250427T140528Z
LAST-MODIFIED:20250427T140528Z
UID:1833-1745868600-1745874000@fatimaiszuzanya.hu
SUMMARY:Felnőtt hittan
DESCRIPTION:Felnőtt hittan
URL:https://fatimaiszuzanya.hu/event/felnott-hittan-12/
LOCATION:Közösségi ház – Ebédlő\, Szent László u. 149.\, Budapest\, 1237\, Magyarország
END:VEVENT
END:VCALENDAR