BEGIN:VCALENDAR
VERSION:2.0
PRODID:-//Fatimai Szűzanya tiszteletére épült Szent István Király Plébániatemplom - ECPv6.15.17.1//NONSGML v1.0//EN
CALSCALE:GREGORIAN
METHOD:PUBLISH
X-WR-CALNAME:Fatimai Szűzanya tiszteletére épült Szent István Király Plébániatemplom
X-ORIGINAL-URL:https://fatimaiszuzanya.hu
X-WR-CALDESC:Események Fatimai Szűzanya tiszteletére épült Szent István Király Plébániatemplom
REFRESH-INTERVAL;VALUE=DURATION:PT1H
X-Robots-Tag:noindex
X-PUBLISHED-TTL:PT1H
BEGIN:VTIMEZONE
TZID:Europe/Helsinki
BEGIN:DAYLIGHT
TZOFFSETFROM:+0200
TZOFFSETTO:+0300
TZNAME:EEST
DTSTART:20240331T010000
END:DAYLIGHT
BEGIN:STANDARD
TZOFFSETFROM:+0300
TZOFFSETTO:+0200
TZNAME:EET
DTSTART:20241027T010000
END:STANDARD
BEGIN:DAYLIGHT
TZOFFSETFROM:+0200
TZOFFSETTO:+0300
TZNAME:EEST
DTSTART:20250330T010000
END:DAYLIGHT
BEGIN:STANDARD
TZOFFSETFROM:+0300
TZOFFSETTO:+0200
TZNAME:EET
DTSTART:20251026T010000
END:STANDARD
BEGIN:DAYLIGHT
TZOFFSETFROM:+0200
TZOFFSETTO:+0300
TZNAME:EEST
DTSTART:20260329T010000
END:DAYLIGHT
BEGIN:STANDARD
TZOFFSETFROM:+0300
TZOFFSETTO:+0200
TZNAME:EET
DTSTART:20261025T010000
END:STANDARD
END:VTIMEZONE
BEGIN:VEVENT
DTSTART;TZID=Europe/Helsinki:20250621T150000
DTEND;TZID=Europe/Helsinki:20250621T180000
DTSTAMP:20260420T031218
CREATED:20250608T095248Z
LAST-MODIFIED:20250616T200300Z
UID:1961-1750518000-1750528800@fatimaiszuzanya.hu
SUMMARY:Úrnapra való készülődés
DESCRIPTION:Úrnapra való készülődés
URL:https://fatimaiszuzanya.hu/event/urnapra-valo-keszulodes/
LOCATION:Templomkert\, Szent László u. 149.\, Budapest\, 1237\, Hungary
ATTACH;FMTTYPE=image/jpeg:https://fatimaiszuzanya.hu/wp-content/uploads/2025/06/rose-5203402_640.jpg
END:VEVENT
BEGIN:VEVENT
DTSTART;TZID=Europe/Helsinki:20250622T093000
DTEND;TZID=Europe/Helsinki:20250622T110000
DTSTAMP:20260420T031218
CREATED:20250608T100013Z
LAST-MODIFIED:20250608T100013Z
UID:1964-1750584600-1750590000@fatimaiszuzanya.hu
SUMMARY:Úrnapja ministránsavatással
DESCRIPTION:Úrnapján a templomkertben négy úrnapi oltárunk áll\, amelyeket ilyenkor virágokkal díszítünk\, és a szentmise után az Oltáriszentséget helyezzük ki ezekre az oltárokra\, ahonnan áldást adunk a négy égtáj felé. \nAz Úrnapja az Eucharisztia ünnepe\, épp ezért az elsőáldozóink számára jelentős nap\, akik vagy Úrnapján\, vagy előző vasárnapon részesülhetnek először az Szentáldozásban\, így ők vezetik az úrnapi körmenetet\, virágszőnyeget szórva az Eucharisztia elé. \nAz úrnapi misén kerül sor a ministránsavatásra is.
URL:https://fatimaiszuzanya.hu/event/urnapja-ministransavatassal/
LOCATION:Templom\, Szent László u. 149\, Budapest\, 1237\, Hungary
END:VEVENT
BEGIN:VEVENT
DTSTART;VALUE=DATE:20250623
DTEND;VALUE=DATE:20250628
DTSTAMP:20260420T031218
CREATED:20250608T100155Z
LAST-MODIFIED:20250608T100155Z
UID:1966-1750636800-1751068799@fatimaiszuzanya.hu
SUMMARY:Napközis tábor
DESCRIPTION:Napközis tábor 2025.
URL:https://fatimaiszuzanya.hu/event/napkozis-tabor/
LOCATION:Templomkert\, Szent László u. 149.\, Budapest\, 1237\, Hungary
ATTACH;FMTTYPE=image/jpeg:https://fatimaiszuzanya.hu/wp-content/uploads/2025/06/hands-2847508_640.jpg
END:VEVENT
BEGIN:VEVENT
DTSTART;TZID=Europe/Helsinki:20250704T180000
DTEND;TZID=Europe/Helsinki:20250705T170000
DTSTAMP:20260420T031218
CREATED:20250702T202316Z
LAST-MODIFIED:20250702T202316Z
UID:2019-1751652000-1751734800@fatimaiszuzanya.hu
SUMMARY:24 órás szentségimádás
DESCRIPTION:24 órás szentségimádás
URL:https://fatimaiszuzanya.hu/event/24-oras-szentsegimadas-6/
LOCATION:Templom\, Szent László u. 149\, Budapest\, 1237\, Hungary
ATTACH;FMTTYPE=image/jpeg:https://fatimaiszuzanya.hu/wp-content/uploads/2025/02/szentsegimadas.jpg
END:VEVENT
BEGIN:VEVENT
DTSTART;VALUE=DATE:20250724
DTEND;VALUE=DATE:20250728
DTSTAMP:20260420T031218
CREATED:20250608T100415Z
LAST-MODIFIED:20250608T100415Z
UID:1968-1753315200-1753660799@fatimaiszuzanya.hu
SUMMARY:Plébániai nagytábor
DESCRIPTION:Felnőttek részére szervezett éves nagytábor a programjain keresztül teret ad a közösségépítésre\, a hitbéli elmélyülésre\, valamint egymás jobb megismerésére.
URL:https://fatimaiszuzanya.hu/event/plebaniai-nagytabor/
END:VEVENT
BEGIN:VEVENT
DTSTART;TZID=Europe/Helsinki:20250801T180000
DTEND;TZID=Europe/Helsinki:20250802T170000
DTSTAMP:20260420T031218
CREATED:20250727T163239Z
LAST-MODIFIED:20250727T163239Z
UID:2036-1754071200-1754154000@fatimaiszuzanya.hu
SUMMARY:24 órás szentségimádás
DESCRIPTION:Szeretettel várunk mindenkit a templomba 24 órán át bármikor!
URL:https://fatimaiszuzanya.hu/event/24-oras-szentsegimadas-7/
LOCATION:Templom\, Szent László u. 149\, Budapest\, 1237\, Hungary
END:VEVENT
BEGIN:VEVENT
DTSTART;VALUE=DATE:20250811
DTEND;VALUE=DATE:20250823
DTSTAMP:20260420T031218
CREATED:20250625T085634Z
LAST-MODIFIED:20250625T085634Z
UID:2006-1754870400-1755907199@fatimaiszuzanya.hu
SUMMARY:Az irodai szolgálat szünetel
DESCRIPTION:Irodai nyári nyitvatartás
URL:https://fatimaiszuzanya.hu/event/az-irodai-szolgalat-szunetel/
ATTACH;FMTTYPE=image/jpeg:https://fatimaiszuzanya.hu/wp-content/uploads/2025/06/computer-4484282_640.jpg
END:VEVENT
BEGIN:VEVENT
DTSTART;TZID=Europe/Helsinki:20250813T180000
DTEND;TZID=Europe/Helsinki:20250813T190000
DTSTAMP:20260420T031218
CREATED:20250531T084927Z
LAST-MODIFIED:20250531T084927Z
UID:1919-1755108000-1755111600@fatimaiszuzanya.hu
SUMMARY:Fatimai imaest
DESCRIPTION:Minden hónap 13-án kérjük a Szűzanya közbenjárását.
URL:https://fatimaiszuzanya.hu/event/fatimai-imaest-3/
LOCATION:Templom\, Szent László u. 149\, Budapest\, 1237\, Hungary
ATTACH;FMTTYPE=image/jpeg:https://fatimaiszuzanya.hu/wp-content/uploads/2024/08/IMG_20231008_110211-640-k.jpg
END:VEVENT
BEGIN:VEVENT
DTSTART;TZID=Europe/Helsinki:20250815T180000
DTEND;TZID=Europe/Helsinki:20250815T190000
DTSTAMP:20260420T031218
CREATED:20250810T143958Z
LAST-MODIFIED:20250810T144758Z
UID:2047-1755280800-1755284400@fatimaiszuzanya.hu
SUMMARY:Nagyboldogasszony ünnepe
DESCRIPTION:Nagyboldogasszony ünnepén 18:00 órától lesz szentmise templomunkban\, amelyet Sebastian atya tart.
URL:https://fatimaiszuzanya.hu/event/nagyboldogasszony-unnepe/
LOCATION:Templom\, Szent László u. 149\, Budapest\, 1237\, Hungary
ATTACH;FMTTYPE=image/jpeg:https://fatimaiszuzanya.hu/wp-content/uploads/2024/08/IMG_20231008_110211-640-k.jpg
END:VEVENT
BEGIN:VEVENT
DTSTART;TZID=Europe/Helsinki:20250824T093000
DTEND;TZID=Europe/Helsinki:20250824T110000
DTSTAMP:20260420T031218
CREATED:20250821T182634Z
LAST-MODIFIED:20250821T182634Z
UID:2056-1756027800-1756033200@fatimaiszuzanya.hu
SUMMARY:Iskolakezdéshez gyűjt a Karitász
DESCRIPTION:Iskolakezdéshez szervez gyűjtést a Karitász
URL:https://fatimaiszuzanya.hu/event/iskolakezdeshez-gyujt-a-karitasz/
LOCATION:Templom\, Szent László u. 149\, Budapest\, 1237\, Hungary
END:VEVENT
BEGIN:VEVENT
DTSTART;TZID=Europe/Helsinki:20250831T093000
DTEND;TZID=Europe/Helsinki:20250831T110000
DTSTAMP:20260420T031218
CREATED:20250821T182747Z
LAST-MODIFIED:20250821T182747Z
UID:2058-1756632600-1756638000@fatimaiszuzanya.hu
SUMMARY:Iskolakezdéshez gyűjt a Karitász
DESCRIPTION:Iskolakezdéshez szervez gyűjtést a Karitász
URL:https://fatimaiszuzanya.hu/event/iskolakezdeshez-gyujt-a-karitasz-2/
LOCATION:Templom\, Szent László u. 149\, Budapest\, 1237\, Hungary
END:VEVENT
BEGIN:VEVENT
DTSTART;TZID=Europe/Helsinki:20250905T180000
DTEND;TZID=Europe/Helsinki:20250906T170000
DTSTAMP:20260420T031218
CREATED:20250831T122320Z
LAST-MODIFIED:20250831T122320Z
UID:2069-1757095200-1757178000@fatimaiszuzanya.hu
SUMMARY:24 órás szentségimádás
DESCRIPTION:Elsőszombati 24 órás szentségimádásra\, majd szombeton 17:00 órától rózsafüzér imádságra várunk mindenkit szeretettel!
URL:https://fatimaiszuzanya.hu/event/24-oras-szentsegimadas-8/
LOCATION:Templom\, Szent László u. 149\, Budapest\, 1237\, Hungary
ATTACH;FMTTYPE=image/jpeg:https://fatimaiszuzanya.hu/wp-content/uploads/2024/10/jesus-2121771_640.jpg
END:VEVENT
BEGIN:VEVENT
DTSTART;TZID=Europe/Helsinki:20250906T150000
DTEND;TZID=Europe/Helsinki:20250906T220000
DTSTAMP:20260420T031218
CREATED:20250831T175022Z
LAST-MODIFIED:20250831T175041Z
UID:2089-1757170800-1757196000@fatimaiszuzanya.hu
SUMMARY:Szomszédünnep Újtelepen
DESCRIPTION:Szomszédünnepen a plébániánk
URL:https://fatimaiszuzanya.hu/event/szomszedunnep-ujtelepen/
LOCATION:Sósmocsár utcai Nagyjátszótér\, Sósmocsár út\, Budapest\, 1237\, Hungary
END:VEVENT
BEGIN:VEVENT
DTSTART;TZID=Europe/Helsinki:20250907T093000
DTEND;TZID=Europe/Helsinki:20250907T103000
DTSTAMP:20260420T031218
CREATED:20250831T122600Z
LAST-MODIFIED:20250831T172921Z
UID:2071-1757237400-1757241000@fatimaiszuzanya.hu
SUMMARY:Veni Sancte szentmise
DESCRIPTION:Veni Sancte szentmise
URL:https://fatimaiszuzanya.hu/event/veni-sancte-szentmise/
LOCATION:Templom\, Szent László u. 149\, Budapest\, 1237\, Hungary
END:VEVENT
BEGIN:VEVENT
DTSTART;TZID=Europe/Helsinki:20250908T193000
DTEND;TZID=Europe/Helsinki:20250908T210000
DTSTAMP:20260420T031218
CREATED:20250907T103908Z
LAST-MODIFIED:20250907T103942Z
UID:2144-1757359800-1757365200@fatimaiszuzanya.hu
SUMMARY:Felnőtt hittan
DESCRIPTION:A vasárnapi evangéliumokról beszélgetünk\, olyanokat várunk\, akik szeretnék elmélyíteni hitüket és teológiai ismereteiket.
URL:https://fatimaiszuzanya.hu/event/felnott-hittan-17/
LOCATION:Közösségi ház – Ebédlő\, Szent László u. 149.\, Budapest\, 1237\, Magyarország
ATTACH;FMTTYPE=image/jpeg:https://fatimaiszuzanya.hu/wp-content/uploads/2024/09/bible-879073_640.jpg
END:VEVENT
BEGIN:VEVENT
DTSTART;TZID=Europe/Helsinki:20250909T193000
DTEND;TZID=Europe/Helsinki:20250909T210000
DTSTAMP:20260420T031218
CREATED:20250907T104341Z
LAST-MODIFIED:20250907T104341Z
UID:2146-1757446200-1757451600@fatimaiszuzanya.hu
SUMMARY:Képviselőtestület (egyháztanács) ülése
DESCRIPTION:A megválasztott képviselőtestület (egyháztanács) havi rendszerességű alkalma.
URL:https://fatimaiszuzanya.hu/event/kepviselotestulet-egyhaztanacs-ulese/
LOCATION:Közösségi ház – Ebédlő\, Szent László u. 149.\, Budapest\, 1237\, Magyarország
ATTACH;FMTTYPE=image/jpeg:https://fatimaiszuzanya.hu/wp-content/uploads/2025/04/valasztas2025.jpg
END:VEVENT
BEGIN:VEVENT
DTSTART;TZID=Europe/Helsinki:20250912T180000
DTEND;TZID=Europe/Helsinki:20250912T190000
DTSTAMP:20260420T031218
CREATED:20250907T104529Z
LAST-MODIFIED:20250907T104529Z
UID:2149-1757700000-1757703600@fatimaiszuzanya.hu
SUMMARY:Szentségimádás
DESCRIPTION:Heti rendszerességű alkalom.
URL:https://fatimaiszuzanya.hu/event/szentsegimadas/
LOCATION:Templom\, Szent László u. 149\, Budapest\, 1237\, Hungary
ATTACH;FMTTYPE=image/jpeg:https://fatimaiszuzanya.hu/wp-content/uploads/2024/10/jesus-2121771_640.jpg
END:VEVENT
BEGIN:VEVENT
DTSTART;TZID=Europe/Helsinki:20250918T090000
DTEND;TZID=Europe/Helsinki:20250918T100000
DTSTAMP:20260420T031218
CREATED:20250908T185055Z
LAST-MODIFIED:20250908T185055Z
UID:2154-1758186000-1758189600@fatimaiszuzanya.hu
SUMMARY:Baba-mama kör
DESCRIPTION:Baba-mama kör
URL:https://fatimaiszuzanya.hu/event/baba-mama-kor-9/
LOCATION:Közösségi ház mellett – Ördögszekér u.\, Ördögszekér u. 2.\, Budapest XXIII. kerület\, 1237\, Hungary
END:VEVENT
BEGIN:VEVENT
DTSTART;TZID=Europe/Helsinki:20250922T193000
DTEND;TZID=Europe/Helsinki:20250922T210000
DTSTAMP:20260420T031218
CREATED:20250908T185344Z
LAST-MODIFIED:20250908T185344Z
UID:2156-1758569400-1758574800@fatimaiszuzanya.hu
SUMMARY:Felnőtt hittan
DESCRIPTION:A vasárnapi evangéliumokról beszélgetünk\, olyanokat várunk\, akik szeretnék elmélyíteni hitüket és teológiai ismereteiket.
URL:https://fatimaiszuzanya.hu/event/felnott-hittan-18/
LOCATION:Közösségi ház – Ebédlő\, Szent László u. 149.\, Budapest\, 1237\, Magyarország
ATTACH;FMTTYPE=image/jpeg:https://fatimaiszuzanya.hu/wp-content/uploads/2024/09/bible-879073_640.jpg
END:VEVENT
BEGIN:VEVENT
DTSTART;TZID=Europe/Helsinki:20251003T180000
DTEND;TZID=Europe/Helsinki:20251004T170000
DTSTAMP:20260420T031218
CREATED:20251004T082658Z
LAST-MODIFIED:20251004T082658Z
UID:2243-1759514400-1759597200@fatimaiszuzanya.hu
SUMMARY:24 órás szentségimádás
DESCRIPTION:Minden hónap első szombathoz kapcsolódóan 24 órás szentségimádást szervezünk a templomba\, amelyhez bármelyik órában lehet szabadon csatlakozni. Szombaton 17:00 órától rózsafüzér imádsággal zárul.
URL:https://fatimaiszuzanya.hu/event/24-oras-szentsegimadas-9/
LOCATION:Templom\, Szent László u. 149\, Budapest\, 1237\, Hungary
ATTACH;FMTTYPE=image/jpeg:https://fatimaiszuzanya.hu/wp-content/uploads/2024/10/jesus-2121771_640.jpg
END:VEVENT
BEGIN:VEVENT
DTSTART;TZID=Europe/Helsinki:20251006T190000
DTEND;TZID=Europe/Helsinki:20251006T210000
DTSTAMP:20260420T031218
CREATED:20250912T155148Z
LAST-MODIFIED:20250912T155148Z
UID:2163-1759777200-1759784400@fatimaiszuzanya.hu
SUMMARY:Felnőtt hittan
DESCRIPTION:A vasárnapi evangéliumokról beszélgetünk\, olyanokat várunk\, akik szeretnék elmélyíteni hitüket és teológiai ismereteiket.
URL:https://fatimaiszuzanya.hu/event/felnott-hittan-19/
LOCATION:Közösségi ház – Ebédlő\, Szent László u. 149.\, Budapest\, 1237\, Magyarország
ATTACH;FMTTYPE=image/jpeg:https://fatimaiszuzanya.hu/wp-content/uploads/2024/09/bible-879073_640.jpg
END:VEVENT
BEGIN:VEVENT
DTSTART;TZID=Europe/Helsinki:20251012T150000
DTEND;TZID=Europe/Helsinki:20251012T180000
DTSTAMP:20260420T031218
CREATED:20251009T154839Z
LAST-MODIFIED:20251009T155230Z
UID:2292-1760281200-1760292000@fatimaiszuzanya.hu
SUMMARY:Barátságos visszavágó - foci 2.0
DESCRIPTION:Barátságos visszavágó – foci 2.0
URL:https://fatimaiszuzanya.hu/event/baratsagos-visszavago-foci-2-0/
LOCATION:Tündérkert\, Molnár u. 118.\, Budapest\, 1238\, Hungary
ATTACH;FMTTYPE=image/jpeg:https://fatimaiszuzanya.hu/wp-content/uploads/2025/10/football-3471371_640.jpg
END:VEVENT
BEGIN:VEVENT
DTSTART;TZID=Europe/Helsinki:20251017T173000
DTEND;TZID=Europe/Helsinki:20251017T200000
DTSTAMP:20260420T031218
CREATED:20251004T085507Z
LAST-MODIFIED:20251006T192015Z
UID:2253-1760722200-1760731200@fatimaiszuzanya.hu
SUMMARY:Lelki felkészülés a templombúcsúra
DESCRIPTION:2025. október 19-én\, templomunk alapkő letételének 25. évfordulóján lesz az októberi templombúcsúnk\, amelynek meghívója ide kattintva érhető el. \nKiemelt ünnepünkre való lelki felkészülésre pénteken az alábbiak szerint van lehetőség: \n17:30 – Rózsafüzér \n18:00 – 19:00 – Szentségimádás \n19:00 – 20:00 – Lelki beszélgetés. Téma: Istenkapcsolatunk.
URL:https://fatimaiszuzanya.hu/event/lelki-felkeszules-a-templombucsura/
LOCATION:Templom\, Szent László u. 149\, Budapest\, 1237\, Hungary
ATTACH;FMTTYPE=image/jpeg:https://fatimaiszuzanya.hu/wp-content/uploads/2025/10/kiemelt_kep-640x427-1.jpg
END:VEVENT
BEGIN:VEVENT
DTSTART;TZID=Europe/Helsinki:20251018T180000
DTEND;TZID=Europe/Helsinki:20251018T190000
DTSTAMP:20260420T031218
CREATED:20251004T085719Z
LAST-MODIFIED:20251006T191921Z
UID:2255-1760810400-1760814000@fatimaiszuzanya.hu
SUMMARY:Lelki felkészülés a templombúcsúra
DESCRIPTION:2025. október 19-én\, templomunk alapkő letételének 25. évfordulóján lesz az októberi templombúcsúnk\, amelynek meghívója ide kattintva érhető el. \nKiemelt ünnepünkre való lelki felkészülésre szombaton az alábbiak szerint van lehetőség: \n18:00 – 19:00 – Szentségimádás\, gyónási lehetőség
URL:https://fatimaiszuzanya.hu/event/lelki-felkeszules-a-templombucsura-2/
LOCATION:Templom\, Szent László u. 149\, Budapest\, 1237\, Hungary
ATTACH;FMTTYPE=image/jpeg:https://fatimaiszuzanya.hu/wp-content/uploads/2025/10/kiemelt_kep-640x427-1.jpg
END:VEVENT
BEGIN:VEVENT
DTSTART;TZID=Europe/Helsinki:20251019T090000
DTEND;TZID=Europe/Helsinki:20251019T150000
DTSTAMP:20260420T031218
CREATED:20250922T175754Z
LAST-MODIFIED:20251006T191848Z
UID:2210-1760864400-1760886000@fatimaiszuzanya.hu
SUMMARY:Októberi templombúcsú
DESCRIPTION:Szeretettel várjuk a zarándokokat az októberi templombúcsúra\, a templomunk alapkőletételének 25. évfordulóján!  \nRészletek az alábbi meghívóban. Regisztrálni ide kattintva lehet. \nTudjon meg többet arról\, miért vagyunk kegyhely a Kegyhely aloldalon (ide kattintva)!
URL:https://fatimaiszuzanya.hu/event/oktoberi-templombucsu/
LOCATION:Templom\, Szent László u. 149\, Budapest\, 1237\, Hungary
ATTACH;FMTTYPE=image/jpeg:https://fatimaiszuzanya.hu/wp-content/uploads/2025/10/kiemelt_kep-640x427-1.jpg
END:VEVENT
BEGIN:VEVENT
DTSTART;TZID=Europe/Helsinki:20251020T193000
DTEND;TZID=Europe/Helsinki:20251020T210000
DTSTAMP:20260420T031218
CREATED:20250912T155300Z
LAST-MODIFIED:20250912T155300Z
UID:2165-1760988600-1760994000@fatimaiszuzanya.hu
SUMMARY:Felnőtt hittan
DESCRIPTION:A vasárnapi evangéliumokról beszélgetünk\, olyanokat várunk\, akik szeretnék elmélyíteni hitüket és teológiai ismereteiket.
URL:https://fatimaiszuzanya.hu/event/felnott-hittan-20/
LOCATION:Közösségi ház – Ebédlő\, Szent László u. 149.\, Budapest\, 1237\, Magyarország
ATTACH;FMTTYPE=image/jpeg:https://fatimaiszuzanya.hu/wp-content/uploads/2024/09/bible-879073_640.jpg
END:VEVENT
BEGIN:VEVENT
DTSTART;TZID=Europe/Helsinki:20251031T180000
DTEND;TZID=Europe/Helsinki:20251101T170000
DTSTAMP:20260420T031218
CREATED:20251004T082812Z
LAST-MODIFIED:20251101T092317Z
UID:2245-1761933600-1762016400@fatimaiszuzanya.hu
SUMMARY:24 órás szentségimádás
DESCRIPTION:„Ami Istenből látható\, elég nekem ahhoz\, hogy higgyem azt is\, ami benne láthatatlan!”  (Aquinói Szent Tamás) \n\n\n\n\n\n\nKedves Testvérek! \nPéntek este 18:00-tól 24 órás Szentségimádást tartunk.\nSzombaton\, 17:00-tól elimádkozzuk a rózsafüzért\, valamint ez a nap egyben Mindenszentek ünnepe\, a megdicsőült Egyház ünnepe\, így 18:00-tól szentmise lesz. \nNovember 1-én mindazon megdicsőült lelkeket ünnepeljük\, akikről megszámlálhatatlan sokaságuk miatt (Jel 7\,9-10) a naptár külön\, név szerint nem emlékezhet meg. Ide tartoznak az életszentség hírében meghaltakon kívül mindazok\, akik a tisztítótűzben megtisztulva már megérkeztek a mennyországba.\nSzent IV. Bonifác pápa 609. május. 13-án a Szűzanya és az összes vértanúk tiszteletére szentelte Rómában a Pantheont. Ennek évfordulóit kezdték Mindenszentek ünnepeként tartani. Később\, III. Gergely pápa idején az ünnep átkerült május 31-re\, és „a Szent Szűz\, minden apostol\, vértanú\, hitvalló\, s a földkerekségen elhunyt minden tökéletes igaz ember” emléknapja lett. Mostani dátumát IV. Gergely pápa pontifikátusa alatt nyerte el\, ő helyezte át november  1-re. Jámbor Lajos császár 835-ben az egész birodalomban elrendelte az ünnepet. Terjedésében nagy szerepe volt Cluny bencéseinek.\nA Mindenszentek estéje már a halottak estéje (halottak napjának vigíliája). A halottak napjával kapcsolatos búcsúk déltől nyerhetők. \nSzeretettel\,\nGergely
URL:https://fatimaiszuzanya.hu/event/24-oras-szentsegimadas-10/
LOCATION:Templom\, Szent László u. 149\, Budapest\, 1237\, Hungary
ATTACH;FMTTYPE=image/jpeg:https://fatimaiszuzanya.hu/wp-content/uploads/2024/10/jesus-2121771_640.jpg
END:VEVENT
BEGIN:VEVENT
DTSTART;TZID=Europe/Helsinki:20251103T193000
DTEND;TZID=Europe/Helsinki:20251103T210000
DTSTAMP:20260420T031218
CREATED:20250912T155430Z
LAST-MODIFIED:20250912T155430Z
UID:2167-1762198200-1762203600@fatimaiszuzanya.hu
SUMMARY:Felnőtt hittan
DESCRIPTION:A vasárnapi evangéliumokról beszélgetünk\, olyanokat várunk\, akik szeretnék elmélyíteni hitüket és teológiai ismereteiket.
URL:https://fatimaiszuzanya.hu/event/felnott-hittan-21/
LOCATION:Közösségi ház – Ebédlő\, Szent László u. 149.\, Budapest\, 1237\, Magyarország
ATTACH;FMTTYPE=image/jpeg:https://fatimaiszuzanya.hu/wp-content/uploads/2024/09/bible-879073_640.jpg
END:VEVENT
BEGIN:VEVENT
DTSTART;TZID=Europe/Helsinki:20251104T193000
DTEND;TZID=Europe/Helsinki:20251104T210000
DTSTAMP:20260420T031218
CREATED:20251102T124406Z
LAST-MODIFIED:20251102T124406Z
UID:2332-1762284600-1762290000@fatimaiszuzanya.hu
SUMMARY:Egyháztanács ülése
DESCRIPTION:Várjuk a képviselőtestület tagjait a havi rendszerességű egyháztanács ülésére.
URL:https://fatimaiszuzanya.hu/event/egyhaztanacs-ulese/
LOCATION:Közösségi ház – Ebédlő\, Szent László u. 149.\, Budapest\, 1237\, Magyarország
END:VEVENT
BEGIN:VEVENT
DTSTART;TZID=Europe/Helsinki:20251117T193000
DTEND;TZID=Europe/Helsinki:20251117T210000
DTSTAMP:20260420T031218
CREATED:20250912T155539Z
LAST-MODIFIED:20250912T155539Z
UID:2169-1763407800-1763413200@fatimaiszuzanya.hu
SUMMARY:Felnőtt hittan
DESCRIPTION:A vasárnapi evangéliumokról beszélgetünk\, olyanokat várunk\, akik szeretnék elmélyíteni hitüket és teológiai ismereteiket.
URL:https://fatimaiszuzanya.hu/event/felnott-hittan-22/
LOCATION:Közösségi ház – Ebédlő\, Szent László u. 149.\, Budapest\, 1237\, Magyarország
ATTACH;FMTTYPE=image/jpeg:https://fatimaiszuzanya.hu/wp-content/uploads/2024/09/bible-879073_640.jpg
END:VEVENT
END:VCALENDAR